BEGIN:VCALENDAR
VERSION:2.0
PRODID:-//VATOA - ECPv6.15.20//NONSGML v1.0//EN
CALSCALE:GREGORIAN
METHOD:PUBLISH
X-ORIGINAL-URL:https://www.vatoa.org
X-WR-CALDESC:Events for VATOA
REFRESH-INTERVAL;VALUE=DURATION:PT1H
X-Robots-Tag:noindex
X-PUBLISHED-TTL:PT1H
BEGIN:VTIMEZONE
TZID:UTC
BEGIN:STANDARD
TZOFFSETFROM:+0000
TZOFFSETTO:+0000
TZNAME:UTC
DTSTART:20230101T000000
END:STANDARD
END:VTIMEZONE
BEGIN:VEVENT
DTSTART;TZID=UTC:20240122T130000
DTEND;TZID=UTC:20240122T140000
DTSTAMP:20260425T143036
CREATED:20230711T174707Z
LAST-MODIFIED:20240104T205016Z
UID:984-1705928400-1705932000@www.vatoa.org
SUMMARY:Webinar:  FCC Hot Topics
DESCRIPTION:Diane Holland of the Wiley law firm addresses current FCC issues
URL:https://www.vatoa.org/event/wireless-and-the-otard-rules/
ATTACH;FMTTYPE=image/jpeg:https://www.vatoa.org/wp-content/uploads/2022/08/radio-masts-600837_1920.jpg
END:VEVENT
END:VCALENDAR