BEGIN:VCALENDAR
VERSION:2.0
PRODID:-//VATOA - ECPv6.15.20//NONSGML v1.0//EN
CALSCALE:GREGORIAN
METHOD:PUBLISH
X-WR-CALNAME:VATOA
X-ORIGINAL-URL:https://www.vatoa.org
X-WR-CALDESC:Events for VATOA
REFRESH-INTERVAL;VALUE=DURATION:PT1H
X-Robots-Tag:noindex
X-PUBLISHED-TTL:PT1H
BEGIN:VTIMEZONE
TZID:UTC
BEGIN:STANDARD
TZOFFSETFROM:+0000
TZOFFSETTO:+0000
TZNAME:UTC
DTSTART:20250101T000000
END:STANDARD
END:VTIMEZONE
BEGIN:VEVENT
DTSTART;TZID=UTC:20260212T140000
DTEND;TZID=UTC:20260212T150000
DTSTAMP:20260423T183608
CREATED:20250718T203522Z
LAST-MODIFIED:20260112T191829Z
UID:1143-1770904800-1770908400@www.vatoa.org
SUMMARY:Webinar:  Federal Topics
DESCRIPTION:How the FCC Works  (Rick Ellrod); Federal Legislative Matters and/or Federal Case Law Update  (Gerry Lederer)
URL:https://www.vatoa.org/event/webinar-federal-update-tentative/
CATEGORIES:Webinar
ATTACH;FMTTYPE=image/jpeg:https://www.vatoa.org/wp-content/uploads/2022/08/State-House-Va-General-Assembly-site-educational-capitol1.jpg
END:VEVENT
END:VCALENDAR