BEGIN:VCALENDAR
VERSION:2.0
PRODID:-//VATOA - ECPv6.15.20//NONSGML v1.0//EN
CALSCALE:GREGORIAN
METHOD:PUBLISH
X-WR-CALNAME:VATOA
X-ORIGINAL-URL:https://www.vatoa.org
X-WR-CALDESC:Events for VATOA
REFRESH-INTERVAL;VALUE=DURATION:PT1H
X-Robots-Tag:noindex
X-PUBLISHED-TTL:PT1H
BEGIN:VTIMEZONE
TZID:UTC
BEGIN:STANDARD
TZOFFSETFROM:+0000
TZOFFSETTO:+0000
TZNAME:UTC
DTSTART:20240101T000000
END:STANDARD
END:VTIMEZONE
BEGIN:VEVENT
DTSTART;TZID=UTC:20251023T140000
DTEND;TZID=UTC:20251023T150000
DTSTAMP:20260424T002049
CREATED:20250918T132908Z
LAST-MODIFIED:20250930T200317Z
UID:1149-1761228000-1761231600@www.vatoa.org
SUMMARY:Webinar:  The New World of Government Programming in 2025
DESCRIPTION:The New World of Government Programming in 2025 \n  \nChris Williams\, Video Production Administrator \nJames City County Video Services Division \n  \nA look into the daily functions and top issues on the minds of government programmers\, with examples from James City County\, Virginia\, as well as other localities within the Commonwealth and nationally. Despite changing times and technology\, many aspects of government video have remained the same over the last decade. We will discuss these holdovers from a bygone era and how they continue to come up in roundtables and “therapy sessions” among videographers. \n  \nChris oversees the Video Services Division of James City County\, where he serves as Video Production Administrator. His four-person crew handles A/V broadcast\, production and maintenance for the entire County\, plus some work for the neighboring City of Williamsburg and local school district. He is a member of VATOA and is the current President-Elect of NATOA.
URL:https://www.vatoa.org/event/webinar/
CATEGORIES:Webinar
ATTACH;FMTTYPE=image/jpeg:https://www.vatoa.org/wp-content/uploads/2025/09/camera-1838936_1920.jpg
END:VEVENT
END:VCALENDAR