BEGIN:VCALENDAR
VERSION:2.0
PRODID:-//VATOA - ECPv6.15.20//NONSGML v1.0//EN
CALSCALE:GREGORIAN
METHOD:PUBLISH
X-WR-CALNAME:VATOA
X-ORIGINAL-URL:https://www.vatoa.org
X-WR-CALDESC:Events for VATOA
REFRESH-INTERVAL;VALUE=DURATION:PT1H
X-Robots-Tag:noindex
X-PUBLISHED-TTL:PT1H
BEGIN:VTIMEZONE
TZID:UTC
BEGIN:STANDARD
TZOFFSETFROM:+0000
TZOFFSETTO:+0000
TZNAME:UTC
DTSTART:20240101T000000
END:STANDARD
END:VTIMEZONE
BEGIN:VEVENT
DTSTART;TZID=UTC:20250627T110000
DTEND;TZID=UTC:20250627T150000
DTSTAMP:20260424T061920
CREATED:20250219T204221Z
LAST-MODIFIED:20250428T191108Z
UID:1079-1751022000-1751036400@www.vatoa.org
SUMMARY:Annual Meeting
DESCRIPTION:
URL:https://www.vatoa.org/event/annual-meeting-3/
LOCATION:Virginia Beach City Hall\, Virginia Beach\,\, VA\, United States
ATTACH;FMTTYPE=image/jpeg:https://www.vatoa.org/wp-content/uploads/2022/08/playmobil-451203_1920.jpg
END:VEVENT
END:VCALENDAR