BEGIN:VCALENDAR
VERSION:2.0
PRODID:-//VATOA - ECPv6.15.20//NONSGML v1.0//EN
CALSCALE:GREGORIAN
METHOD:PUBLISH
X-WR-CALNAME:VATOA
X-ORIGINAL-URL:https://www.vatoa.org
X-WR-CALDESC:Events for VATOA
REFRESH-INTERVAL;VALUE=DURATION:PT1H
X-Robots-Tag:noindex
X-PUBLISHED-TTL:PT1H
BEGIN:VTIMEZONE
TZID:UTC
BEGIN:STANDARD
TZOFFSETFROM:+0000
TZOFFSETTO:+0000
TZNAME:UTC
DTSTART:20230101T000000
END:STANDARD
END:VTIMEZONE
BEGIN:VEVENT
DTSTART;TZID=UTC:20240404T140000
DTEND;TZID=UTC:20240404T150000
DTSTAMP:20260425T023920
CREATED:20230711T175235Z
LAST-MODIFIED:20231108T162316Z
UID:990-1712239200-1712242800@www.vatoa.org
SUMMARY:Webinar:  Legislative Debrief
DESCRIPTION:Legislative session review by Joe Lerch of VACo
URL:https://www.vatoa.org/event/webinar-legislative-debrief-3/
ATTACH;FMTTYPE=image/jpeg:https://www.vatoa.org/wp-content/uploads/2022/08/State-House-Va-General-Assembly-site-educational-capitol1.jpg
END:VEVENT
END:VCALENDAR