BEGIN:VCALENDAR
VERSION:2.0
PRODID:-//VATOA - ECPv6.15.20//NONSGML v1.0//EN
CALSCALE:GREGORIAN
METHOD:PUBLISH
X-WR-CALNAME:VATOA
X-ORIGINAL-URL:https://www.vatoa.org
X-WR-CALDESC:Events for VATOA
REFRESH-INTERVAL;VALUE=DURATION:PT1H
X-Robots-Tag:noindex
X-PUBLISHED-TTL:PT1H
BEGIN:VTIMEZONE
TZID:UTC
BEGIN:STANDARD
TZOFFSETFROM:+0000
TZOFFSETTO:+0000
TZNAME:UTC
DTSTART:20210101T000000
END:STANDARD
END:VTIMEZONE
BEGIN:VEVENT
DTSTART;TZID=UTC:20220929T140000
DTEND;TZID=UTC:20220929T150000
DTSTAMP:20260423T230939
CREATED:20220817T195507Z
LAST-MODIFIED:20220817T201838Z
UID:828-1664460000-1664463600@www.vatoa.org
SUMMARY:Quarterly Conference Call:  Community Roundtable
DESCRIPTION:
URL:https://www.vatoa.org/event/quarterly-conference-call-community-roundtable/
CATEGORIES:Quarterly meeting
ATTACH;FMTTYPE=image/jpeg:https://www.vatoa.org/wp-content/uploads/2022/08/playmobil-451203_1920.jpg
END:VEVENT
BEGIN:VEVENT
DTSTART;TZID=UTC:20220610T110000
DTEND;TZID=UTC:20220610T170000
DTSTAMP:20260423T230939
CREATED:20220106T181412Z
LAST-MODIFIED:20220512T171937Z
UID:477-1654858800-1654880400@www.vatoa.org
SUMMARY:Annual Meeting
DESCRIPTION:Fredericksburg Police Department training room\,\n2200 Cowan Boulevard\,\nFredericksburg\, VA  22401
URL:https://www.vatoa.org/event/annual-meeting/
END:VEVENT
BEGIN:VEVENT
DTSTART;TZID=UTC:20220429T110000
DTEND;TZID=UTC:20220429T120000
DTSTAMP:20260423T230939
CREATED:20220106T181114Z
LAST-MODIFIED:20220408T211342Z
UID:475-1651230000-1651233600@www.vatoa.org
SUMMARY:Webinar: Broadband Developments and Grant Opportunities
DESCRIPTION:
URL:https://www.vatoa.org/event/webinar-broadband-developments-and-grant-opportunities/
END:VEVENT
BEGIN:VEVENT
DTSTART;TZID=UTC:20220324T110000
DTEND;TZID=UTC:20220324T120000
DTSTAMP:20260423T230939
CREATED:20220106T181036Z
LAST-MODIFIED:20220120T233815Z
UID:473-1648119600-1648123200@www.vatoa.org
SUMMARY:Webinar: Legislative Debrief with VACO's Joe Lerch
DESCRIPTION:
URL:https://www.vatoa.org/event/webinar-legislative-debrief/
END:VEVENT
END:VCALENDAR