BEGIN:VCALENDAR
VERSION:2.0
PRODID:-//VATOA - ECPv6.15.20//NONSGML v1.0//EN
CALSCALE:GREGORIAN
METHOD:PUBLISH
X-WR-CALNAME:VATOA
X-ORIGINAL-URL:https://www.vatoa.org
X-WR-CALDESC:Events for VATOA
REFRESH-INTERVAL;VALUE=DURATION:PT1H
X-Robots-Tag:noindex
X-PUBLISHED-TTL:PT1H
BEGIN:VTIMEZONE
TZID:UTC
BEGIN:STANDARD
TZOFFSETFROM:+0000
TZOFFSETTO:+0000
TZNAME:UTC
DTSTART:20240101T000000
END:STANDARD
END:VTIMEZONE
BEGIN:VEVENT
DTSTART;TZID=UTC:20250313T140000
DTEND;TZID=UTC:20250313T150000
DTSTAMP:20260425T103827
CREATED:20250227T205000Z
LAST-MODIFIED:20250227T205620Z
UID:1086-1741874400-1741878000@www.vatoa.org
SUMMARY:Legislative Update  (Federal and State)
DESCRIPTION:Join us for a summary of the Virginia Legislative Session 2025 and update on federal legislative matters and funding status.  Featuring Joe Lerch\, Director of Local Government Policy for VACo\, and Gerard Lederer\, Partner at Best Best & Krieger LLP.
URL:https://www.vatoa.org/event/legislative-update-federal-and-state/
CATEGORIES:Webinar
ATTACH;FMTTYPE=image/jpeg:https://www.vatoa.org/wp-content/uploads/2022/08/State-House-Va-General-Assembly-site-educational-capitol1.jpg
END:VEVENT
BEGIN:VEVENT
DTSTART;TZID=UTC:20250627T110000
DTEND;TZID=UTC:20250627T150000
DTSTAMP:20260425T103827
CREATED:20250219T204221Z
LAST-MODIFIED:20250428T191108Z
UID:1079-1751022000-1751036400@www.vatoa.org
SUMMARY:Annual Meeting
DESCRIPTION:
URL:https://www.vatoa.org/event/annual-meeting-3/
LOCATION:Virginia Beach City Hall\, Virginia Beach\,\, VA\, United States
ATTACH;FMTTYPE=image/jpeg:https://www.vatoa.org/wp-content/uploads/2022/08/playmobil-451203_1920.jpg
END:VEVENT
BEGIN:VEVENT
DTSTART;TZID=UTC:20250710T140000
DTEND;TZID=UTC:20250710T150000
DTSTAMP:20260425T103827
CREATED:20250627T193401Z
LAST-MODIFIED:20250718T202515Z
UID:1123-1752156000-1752159600@www.vatoa.org
SUMMARY:The Virginia Telecommunications Initiative:  Eight Years in\, Where Are We?
DESCRIPTION:Mike Lockaby of Spilman Thomas & Battle\, PLLC\, will discuss the Virginia Telecommunications Initiative (VATI)’s record on broadband development from the standpoint of local communities. \n 
URL:https://www.vatoa.org/event/regional-broadband/
CATEGORIES:Webinar
ATTACH;FMTTYPE=image/jpeg:https://www.vatoa.org/wp-content/uploads/2023/07/glass-fiber-gdbc2a02ba_1280.jpg
END:VEVENT
BEGIN:VEVENT
DTSTART;TZID=UTC:20250911T140000
DTEND;TZID=UTC:20250911T150000
DTSTAMP:20260425T103827
CREATED:20250718T202632Z
LAST-MODIFIED:20250718T202632Z
UID:1134-1757599200-1757602800@www.vatoa.org
SUMMARY:Quarterly conference call
DESCRIPTION:Quarterly VATOA meeting\, with presentation on the future of communications (part 1) and member roundtable.
URL:https://www.vatoa.org/event/quarterly-conference-call/
CATEGORIES:Quarterly meeting
ATTACH;FMTTYPE=image/jpeg:https://www.vatoa.org/wp-content/uploads/2022/08/playmobil-451203_1920.jpg
END:VEVENT
BEGIN:VEVENT
DTSTART;TZID=UTC:20251023T140000
DTEND;TZID=UTC:20251023T150000
DTSTAMP:20260425T103827
CREATED:20250918T132908Z
LAST-MODIFIED:20250930T200317Z
UID:1149-1761228000-1761231600@www.vatoa.org
SUMMARY:Webinar:  The New World of Government Programming in 2025
DESCRIPTION:The New World of Government Programming in 2025 \n  \nChris Williams\, Video Production Administrator \nJames City County Video Services Division \n  \nA look into the daily functions and top issues on the minds of government programmers\, with examples from James City County\, Virginia\, as well as other localities within the Commonwealth and nationally. Despite changing times and technology\, many aspects of government video have remained the same over the last decade. We will discuss these holdovers from a bygone era and how they continue to come up in roundtables and “therapy sessions” among videographers. \n  \nChris oversees the Video Services Division of James City County\, where he serves as Video Production Administrator. His four-person crew handles A/V broadcast\, production and maintenance for the entire County\, plus some work for the neighboring City of Williamsburg and local school district. He is a member of VATOA and is the current President-Elect of NATOA.
URL:https://www.vatoa.org/event/webinar/
CATEGORIES:Webinar
ATTACH;FMTTYPE=image/jpeg:https://www.vatoa.org/wp-content/uploads/2025/09/camera-1838936_1920.jpg
END:VEVENT
BEGIN:VEVENT
DTSTART;TZID=UTC:20251204T140000
DTEND;TZID=UTC:20251204T150000
DTSTAMP:20260425T103827
CREATED:20250718T202818Z
LAST-MODIFIED:20250718T202818Z
UID:1137-1764856800-1764860400@www.vatoa.org
SUMMARY:Quarterly conference call
DESCRIPTION:Quarterly VATOA meeting\, with presentation on the future of communications (part 2) and member roundtable.
URL:https://www.vatoa.org/event/quarterly-conference-call-2/
CATEGORIES:Quarterly meeting
ATTACH;FMTTYPE=image/jpeg:https://www.vatoa.org/wp-content/uploads/2022/08/playmobil-451203_1920.jpg
END:VEVENT
BEGIN:VEVENT
DTSTART;TZID=UTC:20260212T140000
DTEND;TZID=UTC:20260212T150000
DTSTAMP:20260425T103827
CREATED:20250718T203522Z
LAST-MODIFIED:20260112T191829Z
UID:1143-1770904800-1770908400@www.vatoa.org
SUMMARY:Webinar:  Federal Topics
DESCRIPTION:How the FCC Works  (Rick Ellrod); Federal Legislative Matters and/or Federal Case Law Update  (Gerry Lederer)
URL:https://www.vatoa.org/event/webinar-federal-update-tentative/
CATEGORIES:Webinar
ATTACH;FMTTYPE=image/jpeg:https://www.vatoa.org/wp-content/uploads/2022/08/State-House-Va-General-Assembly-site-educational-capitol1.jpg
END:VEVENT
BEGIN:VEVENT
DTSTART;TZID=UTC:20260312T140000
DTEND;TZID=UTC:20260312T150000
DTSTAMP:20260425T103827
CREATED:20250718T202927Z
LAST-MODIFIED:20250718T202927Z
UID:1139-1773324000-1773327600@www.vatoa.org
SUMMARY:Quarterly conference call
DESCRIPTION:Quarterly VATOA meeting\, with presentation on the future of communications (part 3) and member roundtable.
URL:https://www.vatoa.org/event/quarterly-conference-call-3/
CATEGORIES:Quarterly meeting
ATTACH;FMTTYPE=image/jpeg:https://www.vatoa.org/wp-content/uploads/2022/08/playmobil-451203_1920.jpg
END:VEVENT
BEGIN:VEVENT
DTSTART;TZID=UTC:20260423T140000
DTEND;TZID=UTC:20260423T150000
DTSTAMP:20260425T103827
CREATED:20250923T191546Z
LAST-MODIFIED:20251124T211347Z
UID:1156-1776952800-1776956400@www.vatoa.org
SUMMARY:Webinar:   Legislative Wrap-Up and Public Communications
DESCRIPTION:Featuring:  Joe Lerch of VACo\, Virginia Legislative Wrap-Up; Jeremy Lasich of Fairfax County\, Best Practices for Public Communications
URL:https://www.vatoa.org/event/webinar-virginia-legislative-wrap-up-tentative/
CATEGORIES:Webinar
ATTACH;FMTTYPE=image/jpeg:https://www.vatoa.org/wp-content/uploads/2022/08/State-House-Va-General-Assembly-site-educational-capitol1.jpg
END:VEVENT
BEGIN:VEVENT
DTSTART;TZID=UTC:20260612T110000
DTEND;TZID=UTC:20260612T150000
DTSTAMP:20260425T103827
CREATED:20250718T203152Z
LAST-MODIFIED:20250718T203152Z
UID:1141-1781262000-1781276400@www.vatoa.org
SUMMARY:Annual Meeting  (tentative)
DESCRIPTION:Annual VATOA meeting\, including elections.
URL:https://www.vatoa.org/event/annual-meeting-tentative/
CATEGORIES:Annual meeting
ATTACH;FMTTYPE=image/jpeg:https://www.vatoa.org/wp-content/uploads/2022/08/playmobil-451203_1920.jpg
END:VEVENT
BEGIN:VEVENT
DTSTART;TZID=UTC:20260910T140000
DTEND;TZID=UTC:20260910T150000
DTSTAMP:20260425T103827
CREATED:20260415T191802Z
LAST-MODIFIED:20260415T191802Z
UID:1171-1789048800-1789052400@www.vatoa.org
SUMMARY:Quarterly conference call
DESCRIPTION:VATOA quarterly meeting (tentative)
URL:https://www.vatoa.org/event/quarterly-conference-call-4/
ATTACH;FMTTYPE=image/jpeg:https://www.vatoa.org/wp-content/uploads/2022/08/playmobil-451203_1920.jpg
END:VEVENT
BEGIN:VEVENT
DTSTART;TZID=UTC:20261022T140000
DTEND;TZID=UTC:20261022T150000
DTSTAMP:20260425T103827
CREATED:20260415T191922Z
LAST-MODIFIED:20260415T191922Z
UID:1173-1792677600-1792681200@www.vatoa.org
SUMMARY:Webinar  (tentative)
DESCRIPTION:
URL:https://www.vatoa.org/event/webinar-tentative/
END:VEVENT
BEGIN:VEVENT
DTSTART;TZID=UTC:20261203T140000
DTEND;TZID=UTC:20261203T150000
DTSTAMP:20260425T103827
CREATED:20260415T192030Z
LAST-MODIFIED:20260415T192110Z
UID:1175-1796306400-1796310000@www.vatoa.org
SUMMARY:Quarterly conference call
DESCRIPTION:VATOA quarterly meeting
URL:https://www.vatoa.org/event/quarterly-conference-call-5/
ATTACH;FMTTYPE=image/jpeg:https://www.vatoa.org/wp-content/uploads/2022/08/playmobil-451203_1920.jpg
END:VEVENT
END:VCALENDAR