BEGIN:VCALENDAR
VERSION:2.0
PRODID:-//VATOA - ECPv6.15.20//NONSGML v1.0//EN
CALSCALE:GREGORIAN
METHOD:PUBLISH
X-WR-CALNAME:VATOA
X-ORIGINAL-URL:https://www.vatoa.org
X-WR-CALDESC:Events for VATOA
REFRESH-INTERVAL;VALUE=DURATION:PT1H
X-Robots-Tag:noindex
X-PUBLISHED-TTL:PT1H
BEGIN:VTIMEZONE
TZID:UTC
BEGIN:STANDARD
TZOFFSETFROM:+0000
TZOFFSETTO:+0000
TZNAME:UTC
DTSTART:20220101T000000
END:STANDARD
END:VTIMEZONE
BEGIN:VEVENT
DTSTART;TZID=UTC:20230316T110000
DTEND;TZID=UTC:20230316T120000
DTSTAMP:20260426T001351
CREATED:20220817T203539Z
LAST-MODIFIED:20230302T183203Z
UID:843-1678964400-1678968000@www.vatoa.org
SUMMARY:Webinar:  Legislative debrief with Joe Lerch
DESCRIPTION:
URL:https://www.vatoa.org/event/webinar-legislative-debrief-2/
CATEGORIES:Webinar
ATTACH;FMTTYPE=image/jpeg:https://www.vatoa.org/wp-content/uploads/2022/08/State-House-Va-General-Assembly-site-educational-capitol1.jpg
END:VEVENT
END:VCALENDAR