BEGIN:VCALENDAR
VERSION:2.0
PRODID:-//VATOA - ECPv6.15.20//NONSGML v1.0//EN
CALSCALE:GREGORIAN
METHOD:PUBLISH
X-ORIGINAL-URL:https://www.vatoa.org
X-WR-CALDESC:Events for VATOA
REFRESH-INTERVAL;VALUE=DURATION:PT1H
X-Robots-Tag:noindex
X-PUBLISHED-TTL:PT1H
BEGIN:VTIMEZONE
TZID:UTC
BEGIN:STANDARD
TZOFFSETFROM:+0000
TZOFFSETTO:+0000
TZNAME:UTC
DTSTART:20220101T000000
END:STANDARD
END:VTIMEZONE
BEGIN:VEVENT
DTSTART;TZID=UTC:20230427T140000
DTEND;TZID=UTC:20230427T150000
DTSTAMP:20260425T212603
CREATED:20220817T204944Z
LAST-MODIFIED:20230417T203329Z
UID:845-1682604000-1682607600@www.vatoa.org
SUMMARY:Webinar:  Digital equity
DESCRIPTION:Speakers:  Dave George and Stephen Stewart of Smart Broadband\, a broadband advisory and management consulting firm that works with local governments in Virginia and elsewhere (among others).
URL:https://www.vatoa.org/event/webinar-digital-equity/
CATEGORIES:Webinar
ATTACH;FMTTYPE=image/jpeg:https://www.vatoa.org/wp-content/uploads/2022/08/pexels-ketut-subiyanto-4545951.jpg
END:VEVENT
END:VCALENDAR